BEGIN:VCALENDAR
VERSION:2.0
PRODID:-//Clarksburg Classical Academy - ECPv5.16.4//NONSGML v1.0//EN
CALSCALE:GREGORIAN
METHOD:PUBLISH
X-WR-CALNAME:Clarksburg Classical Academy
X-ORIGINAL-URL:https://clarksburgclassical.org
X-WR-CALDESC:Events for Clarksburg Classical Academy
BEGIN:VTIMEZONE
TZID:America/New_York
BEGIN:DAYLIGHT
TZOFFSETFROM:-0500
TZOFFSETTO:-0400
TZNAME:EDT
DTSTART:20260308T070000
END:DAYLIGHT
BEGIN:STANDARD
TZOFFSETFROM:-0400
TZOFFSETTO:-0500
TZNAME:EST
DTSTART:20261101T060000
END:STANDARD
END:VTIMEZONE
BEGIN:VEVENT
DTSTART;TZID=America/New_York:20260609T100000
DTEND;TZID=America/New_York:20260609T103000
DTSTAMP:20260424T094710
CREATED:20260410T193305Z
LAST-MODIFIED:20260410T193305Z
UID:36629-1780999200-1781001000@clarksburgclassical.org
SUMMARY:Clarksburg Virtual Reading Series
DESCRIPTION:Join Clarksburg Classical Academy’s Summer Reading Series for fun\, engaging weekly story time sessions with Miss Echard and Principal Nelson. Tune in every Tuesday from June 9 to July 28 at 10:00 AM on Microsoft Teams and enjoy beloved children’s books together! \nRSVP Today! https://clarksburgclassical.org/events/
URL:https://clarksburgclassical.org/event/clarksburg-virtual-reading-series/
LOCATION:Virtual
CATEGORIES:Calendar Only
END:VEVENT
END:VCALENDAR